Workbook

Sheet Graphs
C2: 2021
B4: UN Grant + RPTC | C4: =1300000+750000+265000 -> 2315000 | D4: =+C4/C8 -> 0.52434887
B5: Member State Contributions | C5: =1000000 -> 1000000 | D5: =+C5/C8 -> 0.22650059
B6: ECA Programme Support | C6: =750000 -> 750000 | D6: =C6/C8 -> 0.16987544
B7: Minimum to be mobilised | C7: =Summary!$E$14-SUM(Graphs!$C$4:$C$6) -> 349999.5 | D7: =+C7/C8 -> 0.079275094
C8: =SUM(C4:C7) -> 4414999.5
B41: Category | C41: 2020 | E41: 2021
C42: Amount (US$) | D42: % | E42: Amount (US$) | F42: %
B43: Training | C43: 2664674 | D43: =C43/$C$50 -> 0.47164855 | E43: =Summary!E6 -> 1325074 | F43: =E43/$E$50 -> 0.30013005
B44: Research | C44: 382376.5 | D44: =C44/$C$50 -> 0.06768082 | E44: =Summary!E7 -> 337782.5 | F44: =E44/$E$50 -> 0.076507936
B45: KM and e-Learning | C45: 1011075 | D45: =C45/$C$50 -> 0.17896075 | E45: =Summary!E8 -> 1176575 | F45: =E45/$E$50 -> 0.26649493
B46: ='Annex V 2021 RB XB'!M15 -> Business Development | C46: 131000 | D46: =C46/$C$50 -> 0.023187062 | E46: =Summary!E9 -> 140000 | F46: =E46/$E$50 -> 0.031710083
B47: ='Annex V 2021 RB XB'!M19 -> Monitoring & Evaluation | C47: =35000 -> 35000 | D47: =C47/$C$50 -> 0.0061950165 | E47: ='Annex V 2021 RB XB'!L19 -> 35000 | F47: =E47/$E$50 -> 0.0079275207
B48: Coordination Salaries | C48: 867345 | D48: =C48/$C$50 -> 0.15352047 | E48: =Summary!E11 -> 867345 | F48: =E48/$E$50 -> 0.19645416
B49: Operating expenses | C49: =593232-35000 -> 558232 | D49: =C49/$C$50 -> 0.098807327 | E49: =Summary!E12 -> 533223 | F49: =E49/$E$50 -> 0.12077533
B50: Total | C50: =SUM(C43:C49) -> 5649702.5 | E50: =SUM(E43:E49) -> 4414999.5

Sheet Summary
A2: A | B2: 2021 BREAKDOWN OF BUDGET
B4: Category | C4: 2021 | F4: %
C5: Prog Expenses | D5: Salaries | E5: Total
B6: Training | C6: ='Annex V 2021 RB XB'!L13 -> 850000 | D6: =Workings!D67+11999 -> 475074 | E6: =C6+D6 -> 1325074 | F6: =E6/$E$14 -> 0.30013005
B7: Research | C7: ='Annex V 2021 RB XB'!L14 -> 148560 | D7: =Workings!D88 -> 189222.5 | E7: =C7+D7 -> 337782.5 | F7: =E7/$E$14 -> 0.076507936
B8: eLearning and Knowledge Management | C8: ='Annex V 2021 RB XB'!L17 -> 655500 | D8: =Workings!D85 -> 521075 | E8: =C8+D8 -> 1176575 | F8: =E8/$E$14 -> 0.26649493
B9: Business Development | C9: ='Annex V 2021 RB XB'!L15 -> 140000 | D9: =0 -> 0 | E9: =C9+D9 -> 140000 | F9: =E9/$E$14 -> 0.031710083
B10: ='Annex V 2021 RB XB'!M19 -> Monitoring & Evaluation | C10: ='Annex V 2021 RB XB'!L19 -> 35000 | D10: =0 -> 0 | E10: =C10+D10 -> 35000 | F10: =E10/$E$14 -> 0.0079275207
B11: Coordination Salaries | D11: =Workings!D77+Workings!D60 -> 867345 | E11: =C11+D11 -> 867345 | F11: =E11/$E$14 -> 0.19645416
B12: Operating expenses | C12: ='Annex V 2021 RB XB'!L18 -> 533223 | E12: =C12+D12 -> 533223 | F12: =E12/$E$14 -> 0.12077533
B14: TOTAL | C14: =SUM(C6:C13) -> 2362283 | D14: =SUM(D6:D13) -> 2052716.5 | E14: =SUM(E6:E13) -> 4414999.5 | F14: =SUM(F6:F12) -> 1
A17: B | B17: SOURCES OF FUNDING FOR THE 2021
C18: 2021 | D18: %
B19: Regular Budget (UN Grant + RPTC) | C19: =Graphs!C4 -> 2315000 | D19: =C19/$C$23 -> 0.52434887 | G19: =(C6+C8-260000-340000)/39 -> 23217.949
B20: Member States & ECA Support | C20: =SUM(Graphs!$C$5:$C$6) -> 1750000 | D20: =C20/$C$23 -> 0.39637604
B21: Other Extra Budgetary | C21: =Graphs!C7 -> 349999.5 | D21: =C21/$C$23 -> 0.079275094
B23: TOTAL | C23: =SUM(C19:C22) -> 4414999.5 | D23: =SUM(D19:D21) -> 1

Sheet Annex II UN Grant
B2: GENERAL ASSEMBLY GRANT
B3: FOR THE YEAR 2021
B8: Budget Line | C8: DESCRIPTION | D8: M/M | E8: General Assembly Grant 2020 Allotment
B9: 1100 | C9: Professional Posts (Director, Training Head, Administrator, Research Officer) | D9: =36*3 -> 108 | E9: =Workings!E41 -> 930142.5
B10: 1112 | C10: Lecturers for short courses | E10: =50000 -> 50000
B11: 1301 | C11: Administrative Support Staff | E11: =116000 -> 116000
B12: 1601 | C12: Governing Council and Technical Advisory Committee | E12: =60000 -> 60000
B13: 3201 | C13: Short term Courses | E13: =1300000-SUM(E9:E12) -> 143857.5
C16: TOTAL | E16: =SUM(E9:E14) -> 1300000

Sheet Annex III RB 2020
A2: REGULAR BUDGET AND IDEP GENERATED RESOURCES THE BIENNIUM 2018-2019
A3: Budget Line | B3: DESCRIPTION | C3: 2020 Budget | D3: 2021 | E3: 2021 IDEP Resources | F3: 2021 UN Grant Resources | G3: Year
D4: Proposed | G4: 2019
D5: Budget | G5: Allotment
A6: 1100 | B6: Professional Posts | C6: ='Annex V 2021 RB XB'!C7 -> 1036217 | D6: ='Annex V 2021 RB XB'!D7 -> 1036217 | E6: ='Annex V 2021 RB XB'!E7+'Annex V 2021 RB XB'!G7+'Annex V 2021 RB XB'!H7+'Annex V 2021 RB XB'!I7 -> 264075 | F6: ='Annex V 2021 RB XB'!F7 -> 772142 | G6: =+E6+F6 -> 1036217
A7: 1102 | B7: Relocation & Repatriation Grants | C7: ='Annex V 2021 RB XB'!C8 -> 40000 | D7: ='Annex V 2021 RB XB'!D8 -> 40000 | E7: ='Annex V 2021 RB XB'!E8+'Annex V 2021 RB XB'!G8+'Annex V 2021 RB XB'!H8+'Annex V 2021 RB XB'!I8 -> 0 | F7: ='Annex V 2021 RB XB'!F8 -> 40000 | G7: =+E7+F7 -> 40000
A8: 1112 | B8: Lecturers | C8: ='Annex V 2021 RB XB'!C9 -> 40000 | D8: ='Annex V 2021 RB XB'!D9 -> 40000 | E8: ='Annex V 2021 RB XB'!E9+'Annex V 2021 RB XB'!G9+'Annex V 2021 RB XB'!H9+'Annex V 2021 RB XB'!I9 -> 0 | F8: ='Annex V 2021 RB XB'!F9 -> 40000 | G8: =+E8+F8 -> 40000
A9: 1113 | B9: Consultants | C9: ='Annex V 2021 RB XB'!C10 -> 0 | D9: ='Annex V 2021 RB XB'!D10 -> 80000 | E9: ='Annex V 2021 RB XB'!E10+'Annex V 2021 RB XB'!G10+'Annex V 2021 RB XB'!H10+'Annex V 2021 RB XB'!I10 -> 80000 | F9: ='Annex V 2021 RB XB'!F10 -> 0 | G9: =+E9+F9 -> 80000
A10: 1115 | B10: Policy Dialogue | C10: ='Annex V 2021 RB XB'!C11 -> 120000 | D10: ='Annex V 2021 RB XB'!D11 -> 19000 | E10: ='Annex V 2021 RB XB'!E11+'Annex V 2021 RB XB'!G11+'Annex V 2021 RB XB'!H11+'Annex V 2021 RB XB'!I11 -> 19000 | F10: ='Annex V 2021 RB XB'!F11 -> 0 | G10: =+E10+F10 -> 19000
A11: 1116 | B11: Advanced Policy Research | C11: ='Annex V 2021 RB XB'!C12 -> 0 | D11: ='Annex V 2021 RB XB'!D12 -> 0 | E11: ='Annex V 2021 RB XB'!E12+'Annex V 2021 RB XB'!G12+'Annex V 2021 RB XB'!H12+'Annex V 2021 RB XB'!I12 -> 0 | F11: ='Annex V 2021 RB XB'!F12 -> 0 | G11: =+E11+F11 -> 0
A12: 1117 | B12: Development Seminars | C12: ='Annex V 2021 RB XB'!C13 -> 21654 | D12: ='Annex V 2021 RB XB'!D13 -> 24060 | E12: ='Annex V 2021 RB XB'!E13+'Annex V 2021 RB XB'!G13+'Annex V 2021 RB XB'!H13+'Annex V 2021 RB XB'!I13 -> 24060 | F12: ='Annex V 2021 RB XB'!F13 -> 0 | G12: =+E12+F12 -> 24060
A13: 1300 | B13: Education Grant | C13: ='Annex V 2021 RB XB'!C14 -> 108000 | D13: ='Annex V 2021 RB XB'!D14 -> 108000 | E13: ='Annex V 2021 RB XB'!E14+'Annex V 2021 RB XB'!G14+'Annex V 2021 RB XB'!H14+'Annex V 2021 RB XB'!I14 -> 0 | F13: ='Annex V 2021 RB XB'!F14 -> 108000 | G13: =+E13+F13 -> 108000
A14: 1301 | B14: Administrative support staff | C14: ='Annex V 2021 RB XB'!C15 -> 846500 | D14: ='Annex V 2021 RB XB'!D15 -> 846500 | E14: ='Annex V 2021 RB XB'!E15+'Annex V 2021 RB XB'!G15+'Annex V 2021 RB XB'!H15+'Annex V 2021 RB XB'!I15 -> 730500 | F14: ='Annex V 2021 RB XB'!F15 -> 116000 | G14: =+E14+F14 -> 846500
A15: 1306 | B15: Overtime | C15: ='Annex V 2021 RB XB'!C16 -> 12000 | D15: ='Annex V 2021 RB XB'!D16 -> 12000 | E15: ='Annex V 2021 RB XB'!E16+'Annex V 2021 RB XB'!G16+'Annex V 2021 RB XB'!H16+'Annex V 2021 RB XB'!I16 -> 12000 | F15: ='Annex V 2021 RB XB'!F16 -> 0 | G15: =+E15+F15 -> 12000
A16: 1307 | B16: Education Grant Travel | C16: ='Annex V 2021 RB XB'!C17 -> 0 | D16: ='Annex V 2021 RB XB'!D17 -> 0 | E16: ='Annex V 2021 RB XB'!E17+'Annex V 2021 RB XB'!G17+'Annex V 2021 RB XB'!H17+'Annex V 2021 RB XB'!I17 -> 0 | F16: ='Annex V 2021 RB XB'!F17 -> 0 | G16: =+E16+F16 -> 0
A17: 1308 | B17: Home Leave Travel | C17: ='Annex V 2021 RB XB'!C18 -> 10000 | D17: ='Annex V 2021 RB XB'!D18 -> 10000 | E17: ='Annex V 2021 RB XB'!E18+'Annex V 2021 RB XB'!G18+'Annex V 2021 RB XB'!H18+'Annex V 2021 RB XB'!I18 -> 0 | F17: ='Annex V 2021 RB XB'!F18 -> 10000 | G17: =+E17+F17 -> 10000
... A55: 5300 | B55: Miscellaneous Services | C55: ='Annex V 2021 RB XB'!C56 -> 5000 | D55: ='Annex V 2021 RB XB'!D56 -> 5000 | E55: ='Annex V 2021 RB XB'!E56+'Annex V 2021 RB XB'!G56+'Annex V 2021 RB XB'!H56+'Annex V 2021 RB XB'!I56 -> 5000 | F55: ='Annex V 2021 RB XB'!F56 -> 0 | G55: =+E55+F55 -> 5000
A56: 5400 | B56: Audit Fee | C56: ='Annex V 2021 RB XB'!C57 -> 35000 | D56: ='Annex V 2021 RB XB'!D57 -> 35000 | E56: ='Annex V 2021 RB XB'!E57+'Annex V 2021 RB XB'!G57+'Annex V 2021 RB XB'!H57+'Annex V 2021 RB XB'!I57 -> 35000 | F56: ='Annex V 2021 RB XB'!F58 -> 0 | G56: =+E56+F56 -> 35000
B57: GRAND TOTAL | C57: =SUM(C6:C56) -> 5649703 | D57: =SUM(D6:D56) -> 4415000 | E57: =SUM(E6:E56) -> 3115000.5 | F57: =SUM(F6:F56) -> 1299999.5 | G57: =SUM(G6:G56) -> 4415000

Sheet Annex IV Extra Budget by Prog
B1: EXTRA BUDGETARY BY PROGRAMME OF ACTIVITIES
B2: 2020
B4: ACTIVITY | C4: POTENTIAL SOURCE OF FUNDS | D4: ALLOTMENT 2019
B5: Policy Research Programmes
B6: High-level policy dialogues | C6: ECA Divisions | D6: ='PPB Breakdwn'!O19 -> 15000
B7: Need assessment & strategic outreach | C7: IDEP XB | D7: ='PPB Breakdwn'!O42+'PPB Breakdwn'!O43 -> 39000
B8: Visiting Tajudeen and other Research Fellowships | C8: ECA / IDEP XB | D8: ='PPB Breakdwn'!O54+'PPB Breakdwn'!O35+'PPB Breakdwn'!O36+'PPB Breakdwn'!O37 -> 25500
B9: Capacity Development and Training Programmes
B10: MSc Programmes (Industrial Policy; Development Planning) | C10: UJ, ACBF, INP | D10: ='PPB Breakdwn'!O50 -> 260000
B11: Sectoral and Thematic Core Short Courses, workshops | C11: BADEA,FF,ECA, ABD,AUC, COMESA,MEFMI,UJ | D11: ='PPB Breakdwn'!O46+'PPB Breakdwn'!O47+'PPB Breakdwn'!O51+'PPB Breakdwn'!O48 -> 564000
B12: E-leaning Platform and test run with UNITAR | C12: ECA/BADEA/MEFMI/UNITAR | D12: ='PPB Breakdwn'!O49+'PPB Breakdwn'!O20 -> 630000
B13: Development Seminars | C13: All XB Resources | D13: ='PPB Breakdwn'!O25 -> 24060
B14: Field project visits | C14: BADEA,FF,OSIWA,ECA | D14: ='PPB Breakdwn'!O31 -> 0
B15: Monitoring and Evaluation | C15: All XB Resources | D15: ='Annex V 2021 RB XB'!I57 -> 0
B16: Outreach and Dissemination Programmes & Activities
B17: IDEP Communications | C17: All XB Resources | D17: ='Annex V 2021 RB XB'!D49 -> 56000
B18: IDEP Library & IDEP Policy Publications | C18: All XB Resources | D18: ='Annex V 2021 RB XB'!D50+'PPB Breakdwn'!O59 -> 80000
B19: Sub-total | D19: =SUM(D5:D18) -> 1693560
B20: Administrative, Lagistics & Equipments Support
B21: Capital expendindures (Computers,Projectors, photocopier,interpretation equipments | C21: All XB Resource overhead | D21: ='Annex V 2021 RB XB'!H47+'Annex V 2021 RB XB'!H48 -> 0
B22: Support Personnel, Administrative and Overhead Costs | C22: All XB Resource overhead | D22: =SUM('Annex V 2021 RB XB'!H15,'Annex V 2021 RB XB'!H16,'Annex V 2021 RB XB'!H20,'Annex V 2021 RB XB'!H22,'Annex V 2021 RB XB'!H23,'Annex V 2021 RB XB'!H24,'Annex V 2021 RB XB'!H25,'Annex V 2021 RB XB'!H26,'Annex V 2021 RB XB'!H27,'Annex V 2021 RB XB'!H35,'Annex V 2021 RB XB'!H41,'Annex V 2021 RB XB'!H42,'Annex V 2021 RB XB'!H44,'Annex V 2021 RB XB'!H46,'Annex V 2021 RB XB'!H51,'Annex V 2021 RB XB'!H53,'Annex V 2021 RB XB'!H56,'Annex V 2021 RB XB'!H58) -> 60000
B23: Govermig Council / Technical Advisory Committee plus reports | C23: All XB Resource overhead | D23: ='PPB Breakdwn'!O6+'PPB Breakdwn'!O7+'PPB Breakdwn'!O8+'PPB Breakdwn'!O11+'PPB Breakdwn'!O12+'PPB Breakdwn'!O13+'PPB Breakdwn'!O14+'PPB Breakdwn'!O16 -> 147232
B24: Sub-total | D24: =SUM(D21:D23) -> 207232
B26: Grand Total | D26: =D19+D24 -> 1900792
D31: =SUM('Annex V 2021 RB XB'!H59:I59) -> 1585717.5
D33: =D26-D31 -> 315074.5

Sheet Annex V 2021 RB XB
A2: TOTAL BUDGET ESTIMATE FOR 2021
A4: Budget | B4: DESCRIPTION | C4: 2020 | D4: 2021 | E4: 2021 | F4: 2021 | G4: 2021 | H4: 2021 | I4: 2021
A5: Line | C5: Allotment | D5: Allotment | E5: IDEP Unrestricted Reserves & Other Income | F5: Regular | G5: Extra- | H5: Extra- | I5: Extra-Budgetary
C6: (RB & XB) | D6: (RB & XB) | F6: Budget (UN Grant) | G6: Member States | H6: Budgetary (ECA) | I6: Other Partners
A7: 1100 | B7: Professional Posts | C7: 1036217 | D7: =SUM(E7:I7) -> 1036217 | F7: =Workings!F41+28742 -> 772142 | H7: =264075 -> 264075 | J7: Less home leave travel and education grant estimate
A8: 1102 | B8: Relocation & Repatriation Grants | C8: 40000 | D8: =SUM(E8:I8) -> 40000 | F8: =Workings!C51 -> 40000 | J8: Provisional
A9: 1112 | B9: Lecturers | C9: 40000 | D9: =SUM(E9:I9) -> 40000 | F9: =40000 -> 40000 | J9: Extracted from UN grant allotments - honararium
A10: 1113 | B10: Consultants | C10: 0 | D10: =SUM(E10:I10) -> 80000 | I10: =50000+30000 -> 80000
A11: 1115 | B11: Policy Dialogue | C11: 120000 | D11: =SUM(E11:I11) -> 19000 | I11: =19000 -> 19000
A12: 1116 | B12: Advanced Policy Research | C12: 0 | D12: =SUM(E12:I12) -> 0
A13: 1117 | B13: Monthly Development Seminars | C13: 21654 | D13: =SUM(E13:I13) -> 24060 | G13: ='PPB Breakdwn'!O25 -> 24060 | J13: To cover interpretation and platform rental as necessary | L13: =SUM(D$9,D$28,D$30,D$36,$D$37,D$39) -> 850000 | M13: Training
A14: 1300 | B14: Education Grant & Rental Subsidy | C14: 108000 | D14: =SUM(E14:I14) -> 108000 | F14: =Workings!E44+Workings!E48 -> 108000 | J14: Estimated based on max ed grant and number of dependants | L14: =D11+D13+D34+D10 -> 148560 | M14: Research
A15: 1301 | B15: Administrative support staff | C15: 846500 | D15: =SUM(E15:I15) -> 846500 | F15: ='Annex II UN Grant'!E11 -> 116000 | G15: =SUM(Workings!C59:C60,Workings!C64:C67,Workings!C70:C77,Workings!C81:C85,Workings!C88) -> 730500 | J15: Extract from UN Grants and difference is from MS Contribution based on salary projections | L15: =SUM(D$49,D$50,D38) -> 140000 | M15: Business Development
A16: 1306 | B16: Overtime | C16: 12000 | D16: =SUM(E16:I16) -> 12000 | G16: =12000 -> 12000 | J16: Provisional | L16: =SUM(D$7,D$8,D$14,D$15,D$16,D$18,D$20,$D$21) -> 2052717 | M16: Staff costs
A17: 1307 | B17: Education Grant Travel | C17: 0 | D17: =SUM(E17:I17) -> 0 | L17: =D54+D55 -> 655500 | M17: e-Learning and Knowledge Management
A18: 1308 | B18: Home Leave Travel | C18: 10000 | D18: =SUM(E18:I18) -> 10000 | F18: =Workings!E46 -> 10000 | J18: Two home leave instances anticipated | L18: =$D$59-SUM(L13:L17)-D57 -> 533223 | M18: Common running costs
A19: 1360 | B19: Travel on Separation | C19: 0 | D19: =SUM(E19:I19) -> 0 | L19: =D57 -> 35000 | M19: Monitoring & Evaluation
A20: 1361 | B20: Commutation of Annual Leave on Separation | C20: 0 | D20: =SUM(E20:I20) -> 0
A21: 1363 | B21: Other Separation Costs | C21: 0 | D21: =SUM(E21:I21) -> 0
A22: 1401 | B22: Cleaning Services | C22: 18000 | D22: =SUM(E22:I22) -> 18000 | G22: =ROUNDUP((Workings!Q19*12),-3) -> 18000 | J22: Contract based, uplifted for impending LTA adjustments
A23: 1402 | B23: Gardening Services | C23: 11000 | D23: =SUM(E23:I23) -> 11000 | G23: =ROUNDUP(Workings!$Q$11*12,-3) -> 11000 | J23: Contract based
A24: 1403 | B24: Security Services | C24: 31000 | D24: =SUM(E24:I24) -> 31000 | G24: =ROUNDUP(Workings!$Q$15*12,-3) -> 31000 | J24: Contract based
A25: 1404 | B25: Electricity | C25: 33000 | D25: =SUM(E25:I25) -> 33000 | G25: =ROUNDUP(Workings!$Q$3*12,-3) -> 33000 | J25: Based on trends of previous years
A26: 1405 | B26: Water | C26: 6000 | D26: =SUM(E26:I26) -> 6000 | G26: =ROUNDUP(Workings!$Q$7*12,-3) -> 6000 | J26: based on trends of previous years slightly uplifted
A27: 1501 | B27: Travel of Staff | C27: 100000 | D27: =SUM(E27:I27) -> 50000 | G27: =50000 -> 50000 | J27: Based on trends of previous years
A28: 1600 | B28: Travel of Consultants | C28: 0 | D28: =SUM(E28:I28) -> 0
A29: 1601 | B29: Governing Council and TAC Meetings | C29: 207232 | D29: =SUM(E29:I29) -> 207223 | F29: ='PPB Breakdwn'!N6 -> 60000 | G29: ='PPB Breakdwn'!$O$6+'PPB Breakdwn'!$O$7+'PPB Breakdwn'!$O$8+'PPB Breakdwn'!$O$11+'PPB Breakdwn'!$O$12+'PPB Breakdwn'!$O$13+'PPB Breakdwn'!$O$14+'PPB Breakdwn'!$O$16-9 -> 147223 | J29: Based on three meetings of GC and two for TAC for the year (drawn from trends)
A30: 1602 | B30: Travel of Lecturers | C30: 10000 | D30: =SUM(E30:I30) -> 10000 | F30: =10000 -> 10000 | J30: Extracted from UN grant allotments and previous trends
A31: 2001 | B31: External Contractual Translation (Editing) | C31: 0 | D31: =SUM(E31:I31) -> 0
A32: 2020 | B32: External Contractual Interpretation Services | C32: 0 | D32: =SUM(E32:I32) -> 0
A33: 2040 | B33: Contractual Services for Meetings & Conferences | C33: 0 | D33: =SUM(E33:I33) -> 0
A34: 3100 | B34: Fellowships & Miscellaneous services | C34: 51500 | D34: =SUM(E34:I34) -> 25500 | H34: ='PPB Breakdwn'!$O$54+'PPB Breakdwn'!$O$35+'PPB Breakdwn'!$O$36+'PPB Breakdwn'!$O$37 -> 25500 | J34: Based on biennium plan
A35: 3200 | B35: Staff Training | C35: 60000 | D35: =SUM(E35:I35) -> 60000 | H35: =60000 -> 60000 | J35: Estmated contribution to the cost of staff training for UMOJA (IPSAS, Finance, Grants, Funds, Travel, HR, Procurement, Service delivery, ESS/MSS)
A36: 3201 | B36: Capacity Development and Training Programmes Short-term Courses | C36: 1751000 | D36: =SUM(E36:I36) -> 540000 | F36: ='Annex II UN Grant'!E13 -> 143857.5 | H36: ='PPB Breakdwn'!O46+'PPB Breakdwn'!O47+'PPB Breakdwn'!O48-F36 -> 396142.5 | J36: 22 online courses and 3 in-situ courses
A37: 3205 | B37: Training Materials | C37: 0 | D37: =SUM(E37:I37) -> 0
A38: 3206 | B38: Need Assessment Training, Tailor -made & Strategic outreach | C38: 93600 | D38: =SUM(E38:I38) -> 39000 | G38: =('PPB Breakdwn'!$O$42+'PPB Breakdwn'!$O$43)/2 -> 19500 | H38: =('PPB Breakdwn'!$O$42+'PPB Breakdwn'!$O$43)/2 -> 19500 | J38: Includes advisory services, see course breakdown
A39: 3211 | B39: MSc Collaborative Programmes | C39: 260000 | D39: =SUM(E39:I39) -> 260000 | E39: ='PPB Breakdwn'!$O$50-$G$39 -> 131128 | G39: =128872 -> 128872 | J39: 20 scholarships with UJ and the rest with INP
A40: 4001 | B40: Maintenance of Furniture & Office Equipment | C40: 0 | D40: =SUM(E40:I40) -> 0
A41: 4002 | B41: Maintenance & Operation of Transportation Eqt. | C41: 6000 | D41: =SUM(E41:I41) -> 6000 | G41: =6000 -> 6000 | J41: Provisional sum for vehicle repairs
A42: 4003 | B42: Maintenance of Communication Equipment | C42: 10000 | D42: =SUM(E42:I42) -> 20000 | I42: =20000 -> 20000 | J42: Provisional sum for the replacement of worn-out items and purchase of microphone
...

Sheet PPB Breakdwn
L2: IMDIS | M2: 2021 | N2: 2021 | O2: 2021
B3: Servicing of intergovernmental and expert bodies (regular budget and extrabudgetary): | M3: COUNT | N3: COST - UN Grant | O3: COST - XB plus
C5: Substantive servicing of meetings:
E6: Statutory meetings of the Governing Council of the African Institute for Economic Development and Planning (IDEP); | L6: Yes | M6: =2 -> 2 | N6: =M6/2*60000 -> 60000 | O6: =M6/2*60000 -> 60000
E7: Meetings of the Technical Advisory Committee of IDEP. | L7: Yes | M7: 1 | N7: =0 -> 0 | O7: =M7*60000 -> 60000
E8: Conference of Ministers of Finance, Planning and Economic Development | L8: No | M8: 1 | N8: =0 -> 0 | O8: =(209*12*4)+(2000)*4 -> 18032
C10: Parliamentary documentation:
E11: Reports to the IDEP Governing Council on the status of sub-programme; | L11: Yes | M11: 2 | N11: =0 -> 0 | O11: =M11*2000 -> 4000
E12: IDEP Governing Council meeting reports; | L12: Yes | M12: 2 | N12: =0 -> 0 | O12: =M12*1000 -> 2000
E13: Progress reports to the IDEP Technical Advisory Committee; | L13: Yes | M13: 1 | N13: =0 -> 0 | O13: =M13*1200 -> 1200
E14: IDEP Technical Advisory Committee meeting report to the Governing Council; | L14: Yes | M14: 1 | N14: =0 -> 0 | O14: =M14*500 -> 500
E15: Statutory Audit reports on the financial health of IDEP presented to the Governing Council; | L15: Yes | M15: =0 -> 0 | N15: =0 -> 0 | O15: =M15*11000 -> 0
E16: IDEP programme progress reports for the ECA Conference of Ministers of Finance, Planning, and Economic Management. | L16: Yes | M16: 1 | N16: =0 -> 0 | O16: =1500 -> 1500
C18: Other services : (Other adhoc Expert Groups)
E19: High-level policy dialogue events attended by policy officials from Member States, private sector representatives and subject-matter experts to examine various issues pertaining to African economic development and planning with particular emphasis on those relating to 2030 Agenda for Sustainable Development. | L19: Yes | M19: 2 | N19: =0 -> 0 | O19: =M19*7500 -> 15000
E20: Communities of practice for Africa Development Planners facilitated via electronic media. | L20: Yes | M20: 1 | N20: =0 -> 0 | O20: =M20*10000 -> 10000
B22: Other substantive activities (regular budget):
C24: Seminars
E25: Development seminars on top-of-mind topics on African economic development and planning; | L25: Yes | M25: =PPB!D37 -> 10 | N25: =0 -> 0 | O25: =M25*(1406+1000) -> 24060
C27: Booklets, Pamplets, Fact sheets, Wallchartsm,Information Kits:
E28: Information kit for IDEP comprising of the IDEP strategic plan, training brochures, booklets, leaflets, kakemonos, banners, and assorted accessories to promote the Institute's work (set) | L28: Yes | M28: 1 | N28: =0 -> 0 | O28: =45000 -> 45000
C30: Exhibits, guided tours, lectures:
E31: Field visits for participants to explore practical applications of classroom-learnings in the areas of industrialisation, transport and infrastructure, agriculture, mining and natural resources management, and tourism. | L31: Yes | M31: 0 | N31: =0 -> 0 | O31: =1500*M31 -> 0
C34: Technical materials:
E35: Discussion papers presented by authors at research related events co-organised by IDEP and partners, to be disseminated to the wider public through print and electronic media; | L35: Yes | M35: 0 | N35: =0 -> 0 | O35: =M35*1000 -> 0
E36: Fellowship papers on relevant selected research topics published in journals. | L36: Yes | M36: 4 | N36: =0 -> 0 | O36: =M36*2000 -> 8000
E37: Policy briefs on outcomes of monthly development seminars organised by IDEP and partners disseminated to the wider public through print and electronic media; | L37: Yes | M37: 35 | N37: =0 -> 0 | O37: =M37*500 -> 17500
B39: Technical cooperation (regular budget/extrabudgetary):
C41: Advisory services at the request of governments:
E42: Advisory Missions undertaken at the request of Member States and Regional Economic Communities (REC) to assist in matters of economic management and development planning; | L42: Yes | M42: 2 | N42: =0 -> 0 | O42: =M42*((4*400*4)+(1400)) -> 15600
E43: Needs assessment missions undertaken to a sample of Member States and Regional Economic Communities (REC) to identify human capacity building needs that can be addressed by skills trainings to be used in developing new on-site or tailor-made (country or REC specific) training courses. | L43: Yes | M43: 3 | N43: =0 -> 0 | O43: =3*((2*400*8)+(1400)) -> 23400
C45: Group training (seminars, workshops, symposiums):
E46: Two-week in-situ skills training targeting an average of 25 public officials, on various aspects of African economic development and planning including; | L46: Yes | M46: 1 | O46: =M46*160000 -> 160000
E47: One-week in-situ skills training targeting an average of 25 public officials on various aspects of African economic development and planning including; | L47: Yes | M47: =2 -> 2 | N47: =0 -> 0 | O47: =M47*90000 -> 180000
E48: One-week online tailor-made skills training targeting an average of 30 public officials on various aspects of African economic development and planning including; | L48: Yes | M48: 8 | N48: =0 -> 0 | O48: =M48*25000 -> 200000
E49: E-learning courses ( English & French) delivered via the IDEP online learning platform based on the current IDEP portfolio of regular courses and targeting the civil society, private sector, and public sector; | L49: Yes | M49: =14+17 -> 31 | N49: =0 -> 0 | O49: =20000*M49 -> 620000
E50: Master’s Degree programmes with specialisations of relevance to African development, targeting policymakers, offered in collaboration with recognised African Universities; | L50: Yes | M50: 1 | N50: =0 -> 0 | O50: =260000 -> 260000
E51: Curriculum development workshops to develop new courses addressing needs expressed by member States through IDEP needs assessment missions. | L51: Yes | M51: 6 | N51: =0 -> 0 | O51: =M51*4000 -> 24000
C53: Fellowships and grants:
E54: To undertake quality research leading to publications on the management of economic policy and development planning | L54: Yes | M54: =0 -> 0 | N54: =0 -> 0 | O54: =15000*M54 -> 0
...

Sheet PPB
C3: Outputs | D3: Quantity
C5: Servicing of intergovernmental and expert bodies: (Regular Budget / Extrabudgetary)
C7: Substantive servicing of meetings:
C8: 1. Statutory meetings of the Governing Council of the African Institute for Economic Development and Planning (IDEP); | D8: 2
C9: 2. Technical Advisory Committee of IDEP. | D9: 2
C11: Parliamentary documentation:
C12: 3. Reports to the IDEP Governing Council on the status of sub-programme; | D12: 2
C13: 4. IDEP Governing Council meeting reports; | D13: 2
C14: 5. Progress reports to the IDEP Technical Advisory Committee; | D14: 2
C15: 6. IDEP Technical Advisory Committee meeting report to the Governing Council; | D15: 2
C16: 7. Statutory Audit reports on the financial health of IDEP presented to the Governing Council; | D16: 1
C17: 8. IDEP programme progress reports for the ECA Conference of Ministers of Finance, Planning, and Economic Management. | D17: 1
C19: Ad hoc expert groups
C20: 9. High-level policy dialogue events attended by policy officials from Member States, private sector representatives and subject-matter experts to examine various issues pertaining to African economic development and planning with particular emphasis on those relating to 2030 Agenda for Sustainable Development. | D20: 4
C22: Other services provided
C23: 10. Communities of practice for Africa Development Planners facilitated via electronic media. | D23: 3
C25: Other substantive activities (Extra-Budgetary)
C26: Non-recurrent publications:
C27: 11. Discussion papers presented by authors at research related events co-organised by IDEP and partners, to be disseminated to the wider public through print and electronic media;
C28: 12. Fellowship papers on relevant selected research topics published in journals. | D28: 4
C30: Booklets, pamphlets, fact sheets, wallcharts, information kits:
C31: 13. Policy briefs on outcomes of monthly development seminars organised by IDEP and partners disseminated to the wider public through print and electronic media; | D31: 35
C32: 14. Books, Journals and other library materials on economic management and development planning (in both English and French) procured and made available to training participants and the wider public through the on-site and virtual library. | D32: 10
C33: 15. 200,000 pages digitally archived in A4 format are made available via Internet connection to the library, to support both research activity for interested parties; and the in-house and e-Learning training activity at IDEP.
C34: 16. Information kit for IDEP comprising of the IDEP strategic plan, training brochures, booklets, leaflets, kakemonos, banners, and assorted accessories (bags, t-shirts, pens, calendars, greeting cards, to promote the Institute’s work produced).
C36: Exhibits, guided tours and lectures:
C37: 17. Development seminars on top-of-mind topics on African economic development and planning; | D37: 10
C38: 18. Field visits for participants to explore practical applications of classroom-learnings in the areas of industrialisation, transport and infrastructure, agriculture, mining and natural resources management, and tourism. | D38: 6
C40: Technical cooperation (regular budget/extra budgetary)
C41: Advisory services at the request of governments:
C42: 19. Advisory Missions undertaken at the request of Member States and Regional Economic Communities (REC) to assist in matters of economic management and development planning; | D42: 10
C43: 20. Needs assessment missions undertaken to a sample of Member States and Regional Economic Communities (REC) to identify human capacity building needs that can be addressed by skills trainings to be used in developing new on-site or tailor-made (country or REC specific) training courses.
C45: Fellowships and grants:
C46: 21. Fellowships awarded to competitively selected individuals to undertake quality research leading to publications in the management of economic policy and development planning. | D46: 4
C48: Group training (seminars, workshops, symposiums):
C49: 22. Two-week skills trainings, each targeting an average of 25 public officials, in various aspects of African economic development and planning including: Agricultural Policy, Data and Statistics, Development Planning and Strategies, Domestic Resource Mobilisation, Energy Policy, Gender and Economics, Illicit Financial Flows, Industrialisation, International Migration and Development, Minerals and Mining Policy, Natural Resources Management, Sectoral Development Planning, Social Policy, Transport and Infrastructure; | D49: 15
C50: 23. One-week skills trainings in collaboration with ECA Divisions, Centres, and Sub-Regional Offices, each targeting an average of 25 public officials, in various aspects of African economic development and planning including: Climate Change, Gender and Development, Governance and Development, Innovations and Technology, Land Management, Macroeconomics, Natural Resources Management, Regional Integration and Trade, Social Development, and Statistics; | D50: 10
C51: 24. E-learning courses (4 English, 4 French) based on selected ECA flagship publications targeting 1000 beneficiaries drawn from the academia, civil society, private sector and public sector; | D51: 30
C52: 25. E-learning courses (6 English, 6 French) via the IDEP online learning platform based on the current IDEP portfolio of regular courses and targeting 1,200 beneficiaries drawn from the civil society, private sector, and public sector;
C53: 26. Master’s Degree programmes with specialisations of relevance to African development, targeting policymakers, offered in collaboration with recognised African Universities in the following areas: Industrial Policy, Economic Management and Development Planning, and Natural Resources Management; | D53: 1
...

Sheet Workings
Q1: Exchange rate | R1: =540 -> 540
B2: Electricity | C2: Jan | D2: Feb | E2: Mar | F2: Apr | G2: May | H2: Jun | I2: Jul | J2: Aug | K2: Sep | L2: Oct | M2: Nov | N2: Dec | P2: Avg CFA | Q2: Avg US$
C3: 1748156 | D3: 1064780 | E3: 932688 | F3: 922012 | G3: 1167300 | H3: 1252574 | I3: 1227286 | J3: 1516689 | K3: 1748238 | L3: 1885874 | M3: 2004798 | N3: 1930814 | P3: =AVERAGE(C3:N3) -> 1450100.8 | Q3: =P3/$R$1 -> 2685.3718
B6: Water | C6: Jan | D6: Feb | E6: Mar | F6: Apr | G6: May | H6: Jun | I6: Jul | J6: Aug | K6: Sep | L6: Oct | M6: Nov | N6: Dec
C7: 219077 | D7: 184800 | E7: 193742 | F7: 204919 | G7: 188524 | H7: 263040 | I7: 338303 | J7: 223548 | K7: 58123 | L7: 230255 | M7: 570793 | N7: 271983 | P7: =AVERAGE(C7:N7) -> 245592.25 | Q7: =P7/$R$1 -> 454.80046
B10: Gardening | C10: Jan | D10: Feb | E10: Mar | F10: Apr | G10: May | H10: Jun | I10: Jul | J10: Aug | K10: Sep | L10: Oct | M10: Nov | N10: Dec
C11: 451056 | D11: 451056 | E11: 451056 | F11: 451056 | G11: 451056 | H11: 451056 | I11: 451056 | J11: 451056 | K11: 451056 | L11: 451056 | M11: 451056 | N11: 451056 | P11: =AVERAGE(C11:N11) -> 451056 | Q11: =P11/$R$1 -> 835.28889
B14: Security | C14: Jan | D14: Feb | E14: Mar | F14: Apr | G14: May | H14: Jun | I14: Jul | J14: Aug | K14: Sep | L14: Oct | M14: Nov | N14: Dec
C15: 1212625 | D15: 1212625 | E15: 1212625 | F15: 1212625 | G15: 3124776 | H15: 1212625 | I15: 1212625 | J15: 1212625 | K15: 1212625 | L15: 1212625 | M15: 1212625 | N15: 1212625 | P15: =AVERAGE(C15:N15) -> 1371970.9 | Q15: =P15/$R$1 -> 2540.6869
B18: Cleaning | C18: Jan | D18: Feb | E18: Mar | F18: Apr | G18: May | H18: Jun | I18: Jul | J18: Aug | K18: Sep | L18: Oct | M18: Nov | N18: Dec
C19: =770811 -> 770811 | D19: =770811 -> 770811 | E19: =770811 -> 770811 | F19: =770811 -> 770811 | G19: =770811 -> 770811 | H19: =770811 -> 770811 | I19: =770811 -> 770811 | J19: =770811 -> 770811 | ... N19: =770811 -> 770811 | P19: =AVERAGE(C19:N19) -> 770811 | Q19: =P19/$R$1 -> 1427.4278
B21: Telecommunications | C21: Jan | D21: Feb | E21: Mar | F21: Apr | G21: May | H21: Jun | I21: Jul | J21: Aug | K21: Sep | L21: Oct | M21: Nov | N21: Dec
B22: Cellphones | C22: 197700 | D22: 119600 | E22: 158300 | F22: 187300 | G22: 114500 | H22: 130900 | I22: 103900 | J22: 307400 | K22: 132900 | L22: 145600 | M22: 222600 | N22: 169100 | P22: =AVERAGE(C22:N22) -> 165816.67 | Q22: =P22/$R$1 -> 307.0679
B23: Landline | C23: 1855600 | D23: 1878200 | E23: 1940300 | F23: 1976400 | G23: 1933100 | H23: 2028399 | I23: 2082800 | J23: 2478400 | K23: 2465501 | L23: 4266370 | M23: 2416200 | N23: 2503700 | P23: =AVERAGE(C23:N23) -> 2318747.5 | Q23: =P23/$R$1 -> 4293.9769
B25: Office Stationery | C25: Jan | D25: Feb | E25: Mar | F25: Apr | G25: May | H25: Jun | I25: Jul | J25: Aug | K25: Sep | L25: Oct | M25: Nov | N25: Dec
C26: 42000 | E26: 1321545 | G26: 319860 | H26: 178800 | I26: 2064908 | M26: =128000+309500 -> 437500 | P26: =SUM(C26:M26) -> 4364613 | Q26: =$P$26/$R$1 -> 8082.6167
B28: Staff Travel | C28: Jan | D28: Feb | E28: Mar | F28: Apr | G28: May | H28: Jun | I28: Jul | J28: Aug | K28: Sep | L28: Oct | M28: Nov | N28: Dec
F29: 2402033 | H29: 2927500 | I29: 11567041 | J29: 13539800 | K29: 1473097 | L29: 3960507 | M29: 6075936 | N29: 8234940 | P29: =SUM(F29:N29) -> 50180854 | Q29: =$P$29/$R$1 -> 92927.507
B35: Professional Salaries | C35: 2018 | D35: 2018 | E35: 2020 | F35: 2020
B36: D1 | C36: =283500 -> 283500 | D36: =205000 -> 205000 | E36: =283500*1.05 -> 297675 | F36: =205000*1.05 -> 215250
B37: P5 | C37: 251500 | D37: =109000*2 -> 218000 | E37: =251500*1.05 -> 264075 | F37: =218000*1.05 -> 228900
B38: P4 | C38: =215400*(9/12) -> 161550 | D38: =157000*(9/12) -> 117750 | E38: =215400*1.05 -> 226170 | F38: =180000*1.05 -> 189000
B39: P3 | C39: =180600*(4/12)-150 -> 60050 | D39: =(78600*2)*(4/12) -> 52400 | E39: =180600*1.05*0.75 -> 142222.5 | F39: =140000*1.05*0.75 -> 110250
B41: Total | C41: =SUM(C36:C40) -> 756600 | D41: =SUM(D36:D40) -> 593150 | E41: =SUM(E36:E40) -> 930142.5 | F41: =SUM(F36:F40) -> 743400
D42: =C41-D41 -> 163450 | F42: =E41-F41 -> 186742.5
B44: Ed Grant | C44: =18000*3 -> 54000 | E44: =18000*5 -> 90000
B46: Home Leave Travel | C46: =1200*2 -> 2400 | E46: =(2000*5) -> 10000
B48: Rental Subsidy | C48: =1500*12 -> 18000 | E48: =1500*12 -> 18000
C49: =SUM(C44:C48) -> 74400 | E49: =SUM(E44:E48) -> 118000
B51: Relocation | C51: =40000 -> 40000
B56: Salaries
A58: Direction | B58: Karima Ben Soltane | C58: =E36 -> 297675
B59: Anna Ndiaye | C59: =41500 -> 41500
B60: Malick Coumba Ndiaye | C60: =18000 -> 18000 | D60: =SUM(C58:C60) -> 357175 | E60: =D60/D91 -> 0.17502423
A62: Training | B62: Moustapha Sadni Jallab | C62: =E37 -> 264075
B63: Mamadou Cisse | C63: =51000 -> 51000
B64: Catherine Layre Faye | C64: =41000 -> 41000
B65: Zeynabou Kane | C65: =39000 -> 39000
B66: Aimé M Mangoumen | C66: =42000 -> 42000
B67: Pierrette Lou Nah Zah | C67: =26000 -> 26000 | D67: =SUM(C62:C67) -> 463075 | E67: =D67/D91 -> 0.22691774
...
